BEGIN:VCALENDAR
VERSION:2.0
PRODID:-//Dollars &amp; Cents University - ECPv6.15.20//NONSGML v1.0//EN
CALSCALE:GREGORIAN
METHOD:PUBLISH
X-WR-CALNAME:Dollars &amp; Cents University
X-ORIGINAL-URL:https://dandcu.com
X-WR-CALDESC:Events for Dollars &amp; Cents University
REFRESH-INTERVAL;VALUE=DURATION:PT1H
X-Robots-Tag:noindex
X-PUBLISHED-TTL:PT1H
BEGIN:VTIMEZONE
TZID:America/Halifax
BEGIN:DAYLIGHT
TZOFFSETFROM:-0400
TZOFFSETTO:-0300
TZNAME:ADT
DTSTART:20170312T060000
END:DAYLIGHT
BEGIN:STANDARD
TZOFFSETFROM:-0300
TZOFFSETTO:-0400
TZNAME:AST
DTSTART:20171105T050000
END:STANDARD
BEGIN:DAYLIGHT
TZOFFSETFROM:-0400
TZOFFSETTO:-0300
TZNAME:ADT
DTSTART:20180311T060000
END:DAYLIGHT
BEGIN:STANDARD
TZOFFSETFROM:-0300
TZOFFSETTO:-0400
TZNAME:AST
DTSTART:20181104T050000
END:STANDARD
BEGIN:DAYLIGHT
TZOFFSETFROM:-0400
TZOFFSETTO:-0300
TZNAME:ADT
DTSTART:20190310T060000
END:DAYLIGHT
BEGIN:STANDARD
TZOFFSETFROM:-0300
TZOFFSETTO:-0400
TZNAME:AST
DTSTART:20191103T050000
END:STANDARD
END:VTIMEZONE
BEGIN:VEVENT
DTSTART;TZID=America/Halifax:20180815T140000
DTEND;TZID=America/Halifax:20180815T150000
DTSTAMP:20260422T193608
CREATED:20180914T144028Z
LAST-MODIFIED:20180914T144028Z
UID:924-1534341600-1534345200@dandcu.com
SUMMARY:Investment Basics
DESCRIPTION:
URL:https://dandcu.com/event/investment-basics-6/
LOCATION:Parkridge Community Center\, 591 Armstrong Dr\, Ypsilanti\, MI\, 48197\, United States
CATEGORIES:investing,non-profit,personal finance,program
ORGANIZER;CN="DCU":MAILTO:jay@dandcu.com
END:VEVENT
BEGIN:VEVENT
DTSTART;TZID=America/Halifax:20180711T140000
DTEND;TZID=America/Halifax:20180711T150000
DTSTAMP:20260422T193608
CREATED:20180911T192106Z
LAST-MODIFIED:20180914T135539Z
UID:824-1531317600-1531321200@dandcu.com
SUMMARY:Investment Basics
DESCRIPTION:
URL:https://dandcu.com/event/investment-basics/
LOCATION:Parkridge Community Center\, 591 Armstrong Dr\, Ypsilanti\, MI\, 48197\, United States
CATEGORIES:investing,non-profit,personal finance,program
ORGANIZER;CN="DCU":MAILTO:jay@dandcu.com
END:VEVENT
BEGIN:VEVENT
DTSTART;TZID=America/Halifax:20180406T090000
DTEND;TZID=America/Halifax:20180406T100000
DTSTAMP:20260422T193608
CREATED:20180911T234432Z
LAST-MODIFIED:20180914T144613Z
UID:829-1523005200-1523008800@dandcu.com
SUMMARY:Intro to Finance 101
DESCRIPTION:
URL:https://dandcu.com/event/intro-to-finance/
LOCATION:New Beginnings Academy\, 211 E. Michigan Ave\, Ypsilanti\, MI\, 48198\, United States
CATEGORIES:business,investing,non-profit,personal finance,school
ORGANIZER;CN="DCU":MAILTO:jay@dandcu.com
END:VEVENT
END:VCALENDAR