BEGIN:VCALENDAR
VERSION:2.0
PRODID:-//Dollars &amp; Cents University - ECPv6.15.20//NONSGML v1.0//EN
CALSCALE:GREGORIAN
METHOD:PUBLISH
X-WR-CALNAME:Dollars &amp; Cents University
X-ORIGINAL-URL:https://dandcu.com
X-WR-CALDESC:Events for Dollars &amp; Cents University
REFRESH-INTERVAL;VALUE=DURATION:PT1H
X-Robots-Tag:noindex
X-PUBLISHED-TTL:PT1H
BEGIN:VTIMEZONE
TZID:America/Halifax
BEGIN:DAYLIGHT
TZOFFSETFROM:-0400
TZOFFSETTO:-0300
TZNAME:ADT
DTSTART:20170312T060000
END:DAYLIGHT
BEGIN:STANDARD
TZOFFSETFROM:-0300
TZOFFSETTO:-0400
TZNAME:AST
DTSTART:20171105T050000
END:STANDARD
BEGIN:DAYLIGHT
TZOFFSETFROM:-0400
TZOFFSETTO:-0300
TZNAME:ADT
DTSTART:20180311T060000
END:DAYLIGHT
BEGIN:STANDARD
TZOFFSETFROM:-0300
TZOFFSETTO:-0400
TZNAME:AST
DTSTART:20181104T050000
END:STANDARD
BEGIN:DAYLIGHT
TZOFFSETFROM:-0400
TZOFFSETTO:-0300
TZNAME:ADT
DTSTART:20190310T060000
END:DAYLIGHT
BEGIN:STANDARD
TZOFFSETFROM:-0300
TZOFFSETTO:-0400
TZNAME:AST
DTSTART:20191103T050000
END:STANDARD
BEGIN:DAYLIGHT
TZOFFSETFROM:-0400
TZOFFSETTO:-0300
TZNAME:ADT
DTSTART:20200308T060000
END:DAYLIGHT
BEGIN:STANDARD
TZOFFSETFROM:-0300
TZOFFSETTO:-0400
TZNAME:AST
DTSTART:20201101T050000
END:STANDARD
END:VTIMEZONE
BEGIN:VEVENT
DTSTART;VALUE=DATE:20190622
DTEND;VALUE=DATE:20190623
DTSTAMP:20260424T054031
CREATED:20181228T112045Z
LAST-MODIFIED:20181228T112248Z
UID:1506-1561161600-1561247999@dandcu.com
SUMMARY:Lemonade Day Washtenaw County 2019
DESCRIPTION:It’s official we are bringing the nationally recognized program Lemonade Day back to Michigan!! Join us on June 22\, 2019 as young entrepreneurs throughout Washtenaw County will actively engage in their communities by operating their own lemonade stands.
URL:https://dandcu.com/event/lemonade-day-washtenaw-county-2019/
CATEGORIES:business,non-profit,personal finance,program
END:VEVENT
BEGIN:VEVENT
DTSTART;TZID=America/Halifax:20180914T090000
DTEND;TZID=America/Halifax:20180914T100000
DTSTAMP:20260424T054031
CREATED:20180914T134352Z
LAST-MODIFIED:20180914T134352Z
UID:902-1536915600-1536919200@dandcu.com
SUMMARY:Intro to Finance 101
DESCRIPTION:
URL:https://dandcu.com/event/intro-to-finance-101-4/
LOCATION:New Beginnings Academy\, 211 E. Michigan Ave\, Ypsilanti\, MI\, 48198\, United States
CATEGORIES:personal finance,school
ORGANIZER;CN="DCU":MAILTO:jay@dandcu.com
END:VEVENT
BEGIN:VEVENT
DTSTART;TZID=America/Halifax:20180815T140000
DTEND;TZID=America/Halifax:20180815T150000
DTSTAMP:20260424T054031
CREATED:20180914T144028Z
LAST-MODIFIED:20180914T144028Z
UID:924-1534341600-1534345200@dandcu.com
SUMMARY:Investment Basics
DESCRIPTION:
URL:https://dandcu.com/event/investment-basics-6/
LOCATION:Parkridge Community Center\, 591 Armstrong Dr\, Ypsilanti\, MI\, 48197\, United States
CATEGORIES:investing,non-profit,personal finance,program
ORGANIZER;CN="DCU":MAILTO:jay@dandcu.com
END:VEVENT
BEGIN:VEVENT
DTSTART;TZID=America/Halifax:20180711T140000
DTEND;TZID=America/Halifax:20180711T150000
DTSTAMP:20260424T054031
CREATED:20180911T192106Z
LAST-MODIFIED:20180914T135539Z
UID:824-1531317600-1531321200@dandcu.com
SUMMARY:Investment Basics
DESCRIPTION:
URL:https://dandcu.com/event/investment-basics/
LOCATION:Parkridge Community Center\, 591 Armstrong Dr\, Ypsilanti\, MI\, 48197\, United States
CATEGORIES:investing,non-profit,personal finance,program
ORGANIZER;CN="DCU":MAILTO:jay@dandcu.com
END:VEVENT
BEGIN:VEVENT
DTSTART;TZID=America/Halifax:20180608T090000
DTEND;TZID=America/Halifax:20180608T100000
DTSTAMP:20260424T054031
CREATED:20180914T135210Z
LAST-MODIFIED:20180914T135210Z
UID:914-1528448400-1528452000@dandcu.com
SUMMARY:Intro to Finance 101
DESCRIPTION:
URL:https://dandcu.com/event/intro-to-finance-101-10/
LOCATION:New Beginnings Academy\, 211 E. Michigan Ave\, Ypsilanti\, MI\, 48198\, United States
CATEGORIES:personal finance,school
ORGANIZER;CN="DCU":MAILTO:jay@dandcu.com
END:VEVENT
BEGIN:VEVENT
DTSTART;TZID=America/Halifax:20180601T090000
DTEND;TZID=America/Halifax:20180601T100000
DTSTAMP:20260424T054031
CREATED:20180914T135053Z
LAST-MODIFIED:20180914T135053Z
UID:912-1527843600-1527847200@dandcu.com
SUMMARY:Intro to Finance 101
DESCRIPTION:
URL:https://dandcu.com/event/intro-to-finance-101-9/
LOCATION:New Beginnings Academy\, 211 E. Michigan Ave\, Ypsilanti\, MI\, 48198\, United States
CATEGORIES:personal finance,school
ORGANIZER;CN="DCU":MAILTO:jay@dandcu.com
END:VEVENT
BEGIN:VEVENT
DTSTART;TZID=America/Halifax:20180525T090000
DTEND;TZID=America/Halifax:20180525T100000
DTSTAMP:20260424T054031
CREATED:20180914T134941Z
LAST-MODIFIED:20180914T134941Z
UID:910-1527238800-1527242400@dandcu.com
SUMMARY:Intro to Finance 101
DESCRIPTION:
URL:https://dandcu.com/event/intro-to-finance-101-8/
LOCATION:New Beginnings Academy\, 211 E. Michigan Ave\, Ypsilanti\, MI\, 48198\, United States
CATEGORIES:personal finance,school
ORGANIZER;CN="DCU":MAILTO:jay@dandcu.com
END:VEVENT
BEGIN:VEVENT
DTSTART;TZID=America/Halifax:20180518T090000
DTEND;TZID=America/Halifax:20180518T100000
DTSTAMP:20260424T054031
CREATED:20180914T134833Z
LAST-MODIFIED:20180914T134833Z
UID:908-1526634000-1526637600@dandcu.com
SUMMARY:Intro to Finance 101
DESCRIPTION:
URL:https://dandcu.com/event/intro-to-finance-101-7/
LOCATION:New Beginnings Academy\, 211 E. Michigan Ave\, Ypsilanti\, MI\, 48198\, United States
CATEGORIES:personal finance,school
ORGANIZER;CN="DCU":MAILTO:jay@dandcu.com
END:VEVENT
BEGIN:VEVENT
DTSTART;TZID=America/Halifax:20180511T090000
DTEND;TZID=America/Halifax:20180511T100000
DTSTAMP:20260424T054031
CREATED:20180914T134725Z
LAST-MODIFIED:20180914T134725Z
UID:906-1526029200-1526032800@dandcu.com
SUMMARY:Intro to Finance 101
DESCRIPTION:
URL:https://dandcu.com/event/intro-to-finance-101-6/
LOCATION:New Beginnings Academy\, 211 E. Michigan Ave\, Ypsilanti\, MI\, 48198\, United States
CATEGORIES:personal finance,school
ORGANIZER;CN="DCU":MAILTO:jay@dandcu.com
END:VEVENT
BEGIN:VEVENT
DTSTART;TZID=America/Halifax:20180504T090000
DTEND;TZID=America/Halifax:20180504T100000
DTSTAMP:20260424T054031
CREATED:20180914T134508Z
LAST-MODIFIED:20180914T134508Z
UID:904-1525424400-1525428000@dandcu.com
SUMMARY:Intro to Finance 101
DESCRIPTION:
URL:https://dandcu.com/event/intro-to-finance-101-5/
LOCATION:New Beginnings Academy\, 211 E. Michigan Ave\, Ypsilanti\, MI\, 48198\, United States
CATEGORIES:personal finance,school
ORGANIZER;CN="DCU":MAILTO:jay@dandcu.com
END:VEVENT
BEGIN:VEVENT
DTSTART;TZID=America/Halifax:20180427T090000
DTEND;TZID=America/Halifax:20180427T100000
DTSTAMP:20260424T054031
CREATED:20180914T134219Z
LAST-MODIFIED:20180914T134219Z
UID:900-1524819600-1524823200@dandcu.com
SUMMARY:Intro to Finance 101
DESCRIPTION:
URL:https://dandcu.com/event/intro-to-finance-101-3/
LOCATION:New Beginnings Academy\, 211 E. Michigan Ave\, Ypsilanti\, MI\, 48198\, United States
CATEGORIES:personal finance,school
ORGANIZER;CN="DCU":MAILTO:jay@dandcu.com
END:VEVENT
BEGIN:VEVENT
DTSTART;TZID=America/Halifax:20180420T090000
DTEND;TZID=America/Halifax:20180420T100000
DTSTAMP:20260424T054031
CREATED:20180914T134109Z
LAST-MODIFIED:20180914T134109Z
UID:898-1524214800-1524218400@dandcu.com
SUMMARY:Intro to Finance 101
DESCRIPTION:
URL:https://dandcu.com/event/intro-to-finance-101-2/
LOCATION:New Beginnings Academy\, 211 E. Michigan Ave\, Ypsilanti\, MI\, 48198\, United States
CATEGORIES:personal finance,school
ORGANIZER;CN="DCU":MAILTO:jay@dandcu.com
END:VEVENT
BEGIN:VEVENT
DTSTART;TZID=America/Halifax:20180413T090000
DTEND;TZID=America/Halifax:20180413T100000
DTSTAMP:20260424T054031
CREATED:20180914T133942Z
LAST-MODIFIED:20180914T133942Z
UID:896-1523610000-1523613600@dandcu.com
SUMMARY:Intro to Finance 101
DESCRIPTION:
URL:https://dandcu.com/event/intro-to-finance-101/
LOCATION:New Beginnings Academy\, 211 E. Michigan Ave\, Ypsilanti\, MI\, 48198\, United States
CATEGORIES:personal finance,school
ORGANIZER;CN="DCU":MAILTO:jay@dandcu.com
END:VEVENT
BEGIN:VEVENT
DTSTART;TZID=America/Halifax:20180406T090000
DTEND;TZID=America/Halifax:20180406T100000
DTSTAMP:20260424T054031
CREATED:20180911T234432Z
LAST-MODIFIED:20180914T144613Z
UID:829-1523005200-1523008800@dandcu.com
SUMMARY:Intro to Finance 101
DESCRIPTION:
URL:https://dandcu.com/event/intro-to-finance/
LOCATION:New Beginnings Academy\, 211 E. Michigan Ave\, Ypsilanti\, MI\, 48198\, United States
CATEGORIES:business,investing,non-profit,personal finance,school
ORGANIZER;CN="DCU":MAILTO:jay@dandcu.com
END:VEVENT
END:VCALENDAR